BEGIN:VCALENDAR
VERSION:2.0
PRODID:GIGPRESS 2.0 WORDPRESS PLUGIN
CALSCALE:GREGORIAN
X-WR-TIMEZONE:Etc/GMT
METHOD:PUBLISH
BEGIN:VTIMEZONE
TZID:GMT
BEGIN:STANDARD
DTSTART:20071028T010000
TZOFFSETTO:+0000
TZOFFSETFROM:+0000
END:STANDARD
END:VTIMEZONE
BEGIN:VEVENT
SUMMARY:Ember Swift at La Douzaine
DESCRIPTION:Notes: avec Gabriel Beaudoin (guitare electrique) All Ages/Licensed
LOCATION:La Douzaine\, 2\, rue de Pontèsrocs\, Saint-Martin de Brehal\, FR
UID:20260424T183000Z-613-janinestoll@gmail.com
URL:http://emberswift.com
DTSTART;VALUE=DATE-TIME;TZID=GMT:20260424T183000Z
DTEND;VALUE=DATE-TIME;TZID=GMT:20260424T183000Z
DTSTAMP:20260424T122108Z
END:VEVENT
END:VCALENDAR