BEGIN:VCALENDAR
VERSION:2.0
PRODID:GIGPRESS 2.0 WORDPRESS PLUGIN
CALSCALE:GREGORIAN
X-WR-TIMEZONE:Etc/GMT
METHOD:PUBLISH
BEGIN:VTIMEZONE
TZID:GMT
BEGIN:STANDARD
DTSTART:20071028T010000
TZOFFSETTO:+0000
TZOFFSETFROM:+0000
END:STANDARD
END:VTIMEZONE
BEGIN:VEVENT
SUMMARY:Ember Swift at Le Bercail
DESCRIPTION:Notes: w/ Gabriel Beaudoin (guitare electrique) All Ages/Licensed
LOCATION:Le Bercail\, 15\, rue du Bercail\, Alençon\, FR
UID:20270515T200000Z-611-janinestoll@gmail.com
URL:http://emberswift.com
DTSTART;VALUE=DATE-TIME;TZID=GMT:20270515T200000Z
DTEND;VALUE=DATE-TIME;TZID=GMT:20270515T200000Z
DTSTAMP:20260424T122048Z
END:VEVENT
END:VCALENDAR