BEGIN:VCALENDAR
VERSION:2.0
PRODID:GIGPRESS 2.0 WORDPRESS PLUGIN
CALSCALE:GREGORIAN
X-WR-TIMEZONE:Etc/GMT
METHOD:PUBLISH
BEGIN:VTIMEZONE
TZID:GMT
BEGIN:STANDARD
DTSTART:20071028T010000
TZOFFSETTO:+0000
TZOFFSETFROM:+0000
END:STANDARD
END:VTIMEZONE
BEGIN:VEVENT
SUMMARY:Ember Swift at Bistrot La Maison
DESCRIPTION:Price: Conscientieux. All Ages/Licensed
LOCATION:Bistrot La Maison\, Centre-ville\, Flers\, FR
UID:20260806T193000Z-610-janinestoll@gmail.com
URL:http://emberswift.com
DTSTART;VALUE=DATE-TIME;TZID=GMT:20260806T193000Z
DTEND;VALUE=DATE-TIME;TZID=GMT:20260806T193000Z
DTSTAMP:20260424T122048Z
END:VEVENT
END:VCALENDAR