BEGIN:VCALENDAR
VERSION:2.0
PRODID:GIGPRESS 2.0 WORDPRESS PLUGIN
CALSCALE:GREGORIAN
X-WR-TIMEZONE:Etc/GMT
METHOD:PUBLISH
BEGIN:VTIMEZONE
TZID:GMT
BEGIN:STANDARD
DTSTART:20071028T010000
TZOFFSETTO:+0000
TZOFFSETFROM:+0000
END:STANDARD
END:VTIMEZONE
BEGIN:VEVENT
SUMMARY:Ember Swift at Le Mallouestan
DESCRIPTION:Price: Conscientieux. Notes: "Festival du Mallouestan" -- avec Gabriel Beaudoin (guitare electrique)    Les Dates du Festival = 29 juillet au 2 août All Ages/Licensed
LOCATION:Le Mallouestan\, 2 chemin de la ferme de Malloué\, Souleuvre en Bocage\, FR
UID:20260801T190000Z-609-janinestoll@gmail.com
URL:http://emberswift.com
DTSTART;VALUE=DATE-TIME;TZID=GMT:20260801T190000Z
DTEND;VALUE=DATE-TIME;TZID=GMT:20260801T190000Z
DTSTAMP:20260424T122050Z
END:VEVENT
END:VCALENDAR