BEGIN:VCALENDAR
VERSION:2.0
PRODID:GIGPRESS 2.0 WORDPRESS PLUGIN
CALSCALE:GREGORIAN
X-WR-TIMEZONE:Etc/GMT
METHOD:PUBLISH
BEGIN:VTIMEZONE
TZID:GMT
BEGIN:STANDARD
DTSTART:20071028T010000
TZOFFSETTO:+0000
TZOFFSETFROM:+0000
END:STANDARD
END:VTIMEZONE
BEGIN:VEVENT
SUMMARY:Ember Swift at Ti'Boussa
DESCRIPTION:Price: Conscientieux. Notes: avec Gabriel Beaudoin (guitare electrique) All Ages/Licensed
LOCATION:Ti'Boussa\, 3 Rue de la Liberté\, Avranches\, FR
UID:20260509T210000Z-600-janinestoll@gmail.com
URL:http://emberswift.com
DTSTART;VALUE=DATE-TIME;TZID=GMT:20260509T210000Z
DTEND;VALUE=DATE-TIME;TZID=GMT:20260509T210000Z
DTSTAMP:20260424T123136Z
END:VEVENT
END:VCALENDAR