BEGIN:VCALENDAR
VERSION:2.0
PRODID:GIGPRESS 2.0 WORDPRESS PLUGIN
CALSCALE:GREGORIAN
X-WR-TIMEZONE:Etc/GMT
METHOD:PUBLISH
BEGIN:VTIMEZONE
TZID:GMT
BEGIN:STANDARD
DTSTART:20071028T010000
TZOFFSETTO:+0000
TZOFFSETFROM:+0000
END:STANDARD
END:VTIMEZONE
BEGIN:VEVENT
SUMMARY:Ember Swift at L'Étape en Forêt
DESCRIPTION:Price: Gratuit / Free. Notes: "Fête de la Musique" w/ Gabriel Beaudoin (guitare electrique) All Ages/Licensed
LOCATION:L'Étape en Forêt\, Route du Vieux Château\, St-Sever (Noues de Sienne)\, FR
UID:20260620T200000Z-599-janinestoll@gmail.com
URL:http://emberswift.com
DTSTART;VALUE=DATE-TIME;TZID=GMT:20260620T200000Z
DTEND;VALUE=DATE-TIME;TZID=GMT:20260620T200000Z
DTSTAMP:20260424T021743Z
END:VEVENT
END:VCALENDAR