BEGIN:VCALENDAR
VERSION:2.0
PRODID:GIGPRESS 2.0 WORDPRESS PLUGIN
CALSCALE:GREGORIAN
X-WR-TIMEZONE:Etc/GMT
METHOD:PUBLISH
BEGIN:VTIMEZONE
TZID:GMT
BEGIN:STANDARD
DTSTART:20071028T010000
TZOFFSETTO:+0000
TZOFFSETFROM:+0000
END:STANDARD
END:VTIMEZONE
BEGIN:VEVENT
SUMMARY:Ember Swift at L'Écurie
DESCRIPTION:Notes: avec Gabriel Beaudoin (guitare electrique) All Ages/Licensed
LOCATION:L'Écurie\, 20 Route du Bec d’Andaine\, Gênets\, FR
UID:20260703T210000Z-598-janinestoll@gmail.com
URL:http://emberswift.com
DTSTART;VALUE=DATE-TIME;TZID=GMT:20260703T210000Z
DTEND;VALUE=DATE-TIME;TZID=GMT:20260703T210000Z
DTSTAMP:20260424T123128Z
END:VEVENT
END:VCALENDAR