BEGIN:VCALENDAR
VERSION:2.0
PRODID:GIGPRESS 2.0 WORDPRESS PLUGIN
CALSCALE:GREGORIAN
X-WR-TIMEZONE:Etc/GMT
METHOD:PUBLISH
BEGIN:VTIMEZONE
TZID:GMT
BEGIN:STANDARD
DTSTART:20071028T010000
TZOFFSETTO:+0000
TZOFFSETFROM:+0000
END:STANDARD
END:VTIMEZONE
BEGIN:VEVENT
SUMMARY:Ember Swift at La Lune Rousse
DESCRIPTION:Notes: w/ Gabriel Beaudoin (guitare electrique) All Ages/Licensed
LOCATION:La Lune Rousse\, Le Repas\, FR
UID:20260516T213000Z-596-janinestoll@gmail.com
URL:http://emberswift.com
DTSTART;VALUE=DATE-TIME;TZID=GMT:20260516T213000Z
DTEND;VALUE=DATE-TIME;TZID=GMT:20260516T213000Z
DTSTAMP:20260424T123109Z
END:VEVENT
END:VCALENDAR